Package: glmGamPoi Version: 1.23.0 Command: /home/rapidbuild/bbs-3.23-bioc-rapid/R/bin/R CMD build --keep-empty-dirs --no-resave-data glmGamPoi StartedAt: 2025-11-21 06:58:15 -0500 (Fri, 21 Nov 2025) EndedAt: 2025-11-21 07:03:35 -0500 (Fri, 21 Nov 2025) EllapsedTime: 319.6 seconds RetCode: 0 Status: OK PackageFile: glmGamPoi_1.23.0.tar.gz PackageFileSize: 2.096 MiB