Package: ggtreeExtra Version: 1.21.0 Command: /home/rapidbuild/bbs-3.23-bioc-rapid/R/bin/R CMD INSTALL ggtreeExtra StartedAt: 2025-10-31 06:22:02 -0400 (Fri, 31 Oct 2025) EndedAt: 2025-10-31 06:22:07 -0400 (Fri, 31 Oct 2025) EllapsedTime: 5.0 seconds RetCode: 0 Status: OK