Package: ggtreeExtra Version: 1.21.0 Command: /home/rapidbuild/bbs-3.23-bioc-rapid/R/bin/R CMD build --keep-empty-dirs --no-resave-data ggtreeExtra StartedAt: 2025-10-31 06:52:54 -0400 (Fri, 31 Oct 2025) EndedAt: 2025-10-31 06:53:09 -0400 (Fri, 31 Oct 2025) EllapsedTime: 15.0 seconds RetCode: 0 Status: OK PackageFile: ggtreeExtra_1.21.0.tar.gz PackageFileSize: 526.4 KiB