Package: ggtree Version: 4.1.1 Command: /home/rapidbuild/bbs-3.23-bioc-rapid/R/bin/R CMD check --install=check:ggtree.install-out.txt --library=/home/rapidbuild/bbs-3.23-bioc-rapid/R/site-library --timings ggtree_4.1.1.tar.gz StartedAt: 2025-11-01 08:22:40 -0400 (Sat, 01 Nov 2025) EndedAt: 2025-11-01 08:23:46 -0400 (Sat, 01 Nov 2025) EllapsedTime: 66.0 seconds RetCode: 0 Status: OK CheckDir: ggtree.Rcheck Warnings: 0