Package: ggbio Version: 1.59.0 Maintainer: Michael Lawrence MaintainerEmail: lawremi at gmail.com git_url: https://git.bioconductor.org/packages/ggbio git_branch: devel git_last_commit: 6c3efb9 git_last_commit_date: 2025-10-29 10:09:27 -0400 (Wed, 29 Oct 2025)