Package: gdsfmt Version: 1.47.0 Command: /home/rapidbuild/bbs-3.23-bioc-rapid/R/bin/R CMD INSTALL gdsfmt StartedAt: 2025-10-31 06:06:34 -0400 (Fri, 31 Oct 2025) EndedAt: 2025-10-31 06:09:20 -0400 (Fri, 31 Oct 2025) EllapsedTime: 166.1 seconds RetCode: 0 Status: OK