Package: gdsfmt Version: 1.47.0 Command: /home/rapidbuild/bbs-3.23-bioc-rapid/R/bin/R CMD build --keep-empty-dirs --no-resave-data gdsfmt StartedAt: 2025-11-01 06:48:13 -0400 (Sat, 01 Nov 2025) EndedAt: 2025-11-01 06:51:00 -0400 (Sat, 01 Nov 2025) EllapsedTime: 166.8 seconds RetCode: 0 Status: OK PackageFile: gdsfmt_1.47.0.tar.gz PackageFileSize: 2.796 MiB