Package: gdsfmt Version: 1.45.2 Maintainer: Xiuwen Zheng MaintainerEmail: zhengx at u.washington.edu git_url: https://git.bioconductor.org/packages/gdsfmt git_branch: devel git_last_commit: caccdd9 git_last_commit_date: 2025-10-09 21:39:06 -0400 (Thu, 09 Oct 2025)