Package: flowStats Version: 4.23.0 Command: /home/rapidbuild/bbs-3.23-bioc-rapid/R/bin/R CMD INSTALL flowStats StartedAt: 2025-11-21 06:24:19 -0500 (Fri, 21 Nov 2025) EndedAt: 2025-11-21 06:24:38 -0500 (Fri, 21 Nov 2025) EllapsedTime: 19.2 seconds RetCode: 0 Status: OK