Package: flowStats Version: 4.23.0 Command: /home/rapidbuild/bbs-3.23-bioc-rapid/R/bin/R CMD build --keep-empty-dirs --no-resave-data flowStats StartedAt: 2025-11-21 06:51:58 -0500 (Fri, 21 Nov 2025) EndedAt: 2025-11-21 06:53:14 -0500 (Fri, 21 Nov 2025) EllapsedTime: 76.6 seconds RetCode: 0 Status: OK PackageFile: flowStats_4.23.0.tar.gz PackageFileSize: 10.97 MiB