Package: flowCore Version: 2.21.0 Command: /home/rapidbuild/bbs-3.22-bioc-rapid/R/bin/R CMD INSTALL flowCore StartedAt: 2025-10-10 06:10:39 -0400 (Fri, 10 Oct 2025) EndedAt: 2025-10-10 06:11:13 -0400 (Fri, 10 Oct 2025) EllapsedTime: 33.2 seconds RetCode: 0 Status: OK