Package: flowCore Version: 2.21.0 Command: /home/rapidbuild/bbs-3.22-bioc-rapid/R/bin/R CMD build --keep-empty-dirs --no-resave-data flowCore StartedAt: 2025-10-11 06:49:17 -0400 (Sat, 11 Oct 2025) EndedAt: 2025-10-11 06:50:15 -0400 (Sat, 11 Oct 2025) EllapsedTime: 57.3 seconds RetCode: 0 Status: OK PackageFile: flowCore_2.21.0.tar.gz PackageFileSize: 7.456 MiB