Package: edgeR Version: 4.9.0 Command: /home/rapidbuild/bbs-3.23-bioc-rapid/R/bin/R CMD INSTALL edgeR StartedAt: 2025-11-21 06:14:33 -0500 (Fri, 21 Nov 2025) EndedAt: 2025-11-21 06:14:43 -0500 (Fri, 21 Nov 2025) EllapsedTime: 9.6 seconds RetCode: 0 Status: OK