Package: edgeR Version: 4.9.0 Command: /home/rapidbuild/bbs-3.23-bioc-rapid/R/bin/R CMD build --keep-empty-dirs --no-resave-data edgeR StartedAt: 2025-11-21 06:45:49 -0500 (Fri, 21 Nov 2025) EndedAt: 2025-11-21 06:46:05 -0500 (Fri, 21 Nov 2025) EllapsedTime: 16.0 seconds RetCode: 0 Status: OK PackageFile: edgeR_4.9.0.tar.gz PackageFileSize: 2.92 MiB