Package: cytolib Version: 2.21.0 Command: /home/rapidbuild/bbs-3.22-bioc-rapid/R/bin/R CMD INSTALL cytolib StartedAt: 2025-10-14 12:08:17 -0400 (Tue, 14 Oct 2025) EndedAt: 2025-10-14 12:10:28 -0400 (Tue, 14 Oct 2025) EllapsedTime: 130.2 seconds RetCode: 0 Status: OK