Package: cytolib Version: 2.21.0 Command: /home/rapidbuild/bbs-3.22-bioc-rapid/R/bin/R CMD build --keep-empty-dirs --no-resave-data cytolib StartedAt: 2025-10-14 12:39:52 -0400 (Tue, 14 Oct 2025) EndedAt: 2025-10-14 12:41:59 -0400 (Tue, 14 Oct 2025) EllapsedTime: 126.5 seconds RetCode: 0 Status: OK PackageFile: cytolib_2.21.0.tar.gz PackageFileSize: 5.786 MiB