Package: csaw Version: 1.43.1 Command: /home/rapidbuild/bbs-3.22-bioc-rapid/R/bin/R CMD INSTALL csaw StartedAt: 2025-10-23 06:19:00 -0400 (Thu, 23 Oct 2025) EndedAt: 2025-10-23 06:19:58 -0400 (Thu, 23 Oct 2025) EllapsedTime: 58.3 seconds RetCode: 0 Status: OK