Package: csaw Version: 1.43.1 Command: /home/rapidbuild/bbs-3.22-bioc-rapid/R/bin/R CMD build --keep-empty-dirs --no-resave-data csaw StartedAt: 2025-10-23 06:38:15 -0400 (Thu, 23 Oct 2025) EndedAt: 2025-10-23 06:39:26 -0400 (Thu, 23 Oct 2025) EllapsedTime: 70.9 seconds RetCode: 0 Status: OK PackageFile: csaw_1.43.1.tar.gz PackageFileSize: 389.2 KiB