Package: biovizBase Version: 1.59.0 Maintainer: Michael Lawrence MaintainerEmail: lawremi at gmail.com git_url: https://git.bioconductor.org/packages/biovizBase git_branch: devel git_last_commit: 7895cbf git_last_commit_date: 2025-10-29 10:09:04 -0400 (Wed, 29 Oct 2025)