Package: biomaRt Version: 2.67.0 Command: /home/rapidbuild/bbs-3.23-bioc-rapid/R/bin/R CMD INSTALL biomaRt StartedAt: 2025-11-21 06:19:16 -0500 (Fri, 21 Nov 2025) EndedAt: 2025-11-21 06:19:29 -0500 (Fri, 21 Nov 2025) EllapsedTime: 13.0 seconds RetCode: 0 Status: OK