Package: biocmake Version: 1.3.0 Command: /home/rapidbuild/bbs-3.23-bioc-rapid/R/bin/R CMD INSTALL biocmake StartedAt: 2025-11-21 06:09:46 -0500 (Fri, 21 Nov 2025) EndedAt: 2025-11-21 06:09:48 -0500 (Fri, 21 Nov 2025) EllapsedTime: 2.0 seconds RetCode: 0 Status: OK