Package: biocmake Version: 1.3.0 Command: /home/rapidbuild/bbs-3.23-bioc-rapid/R/bin/R CMD build --keep-empty-dirs --no-resave-data biocmake StartedAt: 2025-11-21 06:34:09 -0500 (Fri, 21 Nov 2025) EndedAt: 2025-11-21 06:34:13 -0500 (Fri, 21 Nov 2025) EllapsedTime: 4.0 seconds RetCode: 0 Status: OK PackageFile: biocmake_1.3.0.tar.gz PackageFileSize: 223.3 KiB