Package: biocViews Version: 1.77.4 Command: /home/rapidbuild/bbs-3.22-bioc-rapid/R/bin/R CMD INSTALL biocViews StartedAt: 2025-10-14 12:11:34 -0400 (Tue, 14 Oct 2025) EndedAt: 2025-10-14 12:11:40 -0400 (Tue, 14 Oct 2025) EllapsedTime: 5.9 seconds RetCode: 0 Status: OK