Package: biocViews Version: 1.77.4 Command: /home/rapidbuild/bbs-3.22-bioc-rapid/R/bin/R CMD build --keep-empty-dirs --no-resave-data biocViews StartedAt: 2025-10-14 12:34:50 -0400 (Tue, 14 Oct 2025) EndedAt: 2025-10-14 12:35:01 -0400 (Tue, 14 Oct 2025) EllapsedTime: 11.3 seconds RetCode: 0 Status: OK PackageFile: biocViews_1.77.4.tar.gz PackageFileSize: 510.1 KiB