Package: beachmat.hdf5 Version: 1.9.0 Command: /home/rapidbuild/bbs-3.23-bioc-rapid/R/bin/R CMD INSTALL beachmat.hdf5 StartedAt: 2025-11-27 06:16:07 -0500 (Thu, 27 Nov 2025) EndedAt: 2025-11-27 06:17:05 -0500 (Thu, 27 Nov 2025) EllapsedTime: 57.9 seconds RetCode: 0 Status: OK