Package: beachmat.hdf5 Version: 1.9.0 Command: /home/rapidbuild/bbs-3.23-bioc-rapid/R/bin/R CMD build --keep-empty-dirs --no-resave-data beachmat.hdf5 StartedAt: 2025-11-27 06:31:54 -0500 (Thu, 27 Nov 2025) EndedAt: 2025-11-27 06:33:00 -0500 (Thu, 27 Nov 2025) EllapsedTime: 66.2 seconds RetCode: 0 Status: OK PackageFile: beachmat.hdf5_1.9.0.tar.gz PackageFileSize: 297.3 KiB