Package: beachmat.hdf5 Version: 1.9.0 Maintainer: Aaron Lun MaintainerEmail: infinite.monkeys.with.keyboards at gmail.com git_url: https://git.bioconductor.org/packages/beachmat.hdf5 git_branch: devel git_last_commit: c02a721 git_last_commit_date: 2025-10-29 11:24:41 -0400 (Wed, 29 Oct 2025)