Package: batchelor Version: 1.27.0 Command: /home/rapidbuild/bbs-3.23-bioc-rapid/R/bin/R CMD INSTALL batchelor StartedAt: 2025-11-16 06:19:25 -0500 (Sun, 16 Nov 2025) EndedAt: 2025-11-16 06:20:01 -0500 (Sun, 16 Nov 2025) EllapsedTime: 35.4 seconds RetCode: 0 Status: OK