Package: batchelor Version: 1.27.0 Command: /home/rapidbuild/bbs-3.23-bioc-rapid/R/bin/R CMD build --keep-empty-dirs --no-resave-data batchelor StartedAt: 2025-11-16 06:31:39 -0500 (Sun, 16 Nov 2025) EndedAt: 2025-11-16 06:34:33 -0500 (Sun, 16 Nov 2025) EllapsedTime: 174.2 seconds RetCode: 0 Status: OK PackageFile: batchelor_1.27.0.tar.gz PackageFileSize: 1.95 MiB