Package: alabaster.schemas Version: 1.11.0 Command: /home/rapidbuild/bbs-3.23-bioc-rapid/R/bin/R CMD INSTALL alabaster.schemas StartedAt: 2025-11-22 06:05:30 -0500 (Sat, 22 Nov 2025) EndedAt: 2025-11-22 06:05:31 -0500 (Sat, 22 Nov 2025) EllapsedTime: 1.2 seconds RetCode: 0 Status: OK