Package: alabaster.schemas Version: 1.11.0 Command: /home/rapidbuild/bbs-3.23-bioc-rapid/R/bin/R CMD build --keep-empty-dirs --no-resave-data alabaster.schemas StartedAt: 2025-11-22 06:30:02 -0500 (Sat, 22 Nov 2025) EndedAt: 2025-11-22 06:30:05 -0500 (Sat, 22 Nov 2025) EllapsedTime: 3.0 seconds RetCode: 0 Status: OK PackageFile: alabaster.schemas_1.11.0.tar.gz PackageFileSize: 239.9 KiB