Package: alabaster.ranges Version: 1.11.0 Command: /home/rapidbuild/bbs-3.23-bioc-rapid/R/bin/R CMD INSTALL alabaster.ranges StartedAt: 2025-11-17 06:14:00 -0500 (Mon, 17 Nov 2025) EndedAt: 2025-11-17 06:14:08 -0500 (Mon, 17 Nov 2025) EllapsedTime: 8.5 seconds RetCode: 0 Status: OK