Package: alabaster.ranges Version: 1.11.0 Command: /home/rapidbuild/bbs-3.23-bioc-rapid/R/bin/R CMD build --keep-empty-dirs --no-resave-data alabaster.ranges StartedAt: 2025-11-19 06:29:24 -0500 (Wed, 19 Nov 2025) EndedAt: 2025-11-19 06:29:38 -0500 (Wed, 19 Nov 2025) EllapsedTime: 13.3 seconds RetCode: 0 Status: OK PackageFile: alabaster.ranges_1.11.0.tar.gz PackageFileSize: 225.7 KiB