Package: alabaster.base Version: 1.9.5 Command: /home/rapidbuild/bbs-3.22-bioc-rapid/R/bin/R CMD INSTALL alabaster.base StartedAt: 2025-10-14 12:11:44 -0400 (Tue, 14 Oct 2025) EndedAt: 2025-10-14 12:12:49 -0400 (Tue, 14 Oct 2025) EllapsedTime: 65.8 seconds RetCode: 0 Status: OK