Package: XVector Version: 0.51.0 Command: /home/rapidbuild/bbs-3.23-bioc-rapid/R/bin/R CMD INSTALL XVector StartedAt: 2025-10-31 06:13:06 -0400 (Fri, 31 Oct 2025) EndedAt: 2025-10-31 06:13:17 -0400 (Fri, 31 Oct 2025) EllapsedTime: 11.4 seconds RetCode: 0 Status: OK