Package: XVector Version: 0.51.0 Command: /home/rapidbuild/bbs-3.23-bioc-rapid/R/bin/R CMD build --keep-empty-dirs --no-resave-data XVector StartedAt: 2025-10-31 07:32:07 -0400 (Fri, 31 Oct 2025) EndedAt: 2025-10-31 07:32:08 -0400 (Fri, 31 Oct 2025) EllapsedTime: 1.0 seconds RetCode: 0 Status: OK PackageFile: XVector_0.51.0.tar.gz PackageFileSize: 67.42 KiB