Package: VisiumIO Version: 1.7.3 Command: /home/rapidbuild/bbs-3.23-bioc-rapid/R/bin/R CMD INSTALL VisiumIO StartedAt: 2025-11-21 06:22:31 -0500 (Fri, 21 Nov 2025) EndedAt: 2025-11-21 06:22:53 -0500 (Fri, 21 Nov 2025) EllapsedTime: 22.6 seconds RetCode: 0 Status: OK