Package: VisiumIO Version: 1.7.3 Command: /home/rapidbuild/bbs-3.23-bioc-rapid/R/bin/R CMD build --keep-empty-dirs --no-resave-data VisiumIO StartedAt: 2025-11-21 07:40:36 -0500 (Fri, 21 Nov 2025) EndedAt: 2025-11-21 07:41:12 -0500 (Fri, 21 Nov 2025) EllapsedTime: 36.0 seconds RetCode: 0 Status: OK PackageFile: VisiumIO_1.7.3.tar.gz PackageFileSize: 1.828 MiB