Package: VisiumIO Version: 1.5.10 Maintainer: Marcel Ramos MaintainerEmail: marcel.ramos at sph.cuny.edu git_url: https://git.bioconductor.org/packages/VisiumIO git_branch: devel git_last_commit: 5a26b32 git_last_commit_date: 2025-10-09 18:21:08 -0400 (Thu, 09 Oct 2025)