Package: UCSC.utils Version: 1.5.0 Command: /home/rapidbuild/bbs-3.22-bioc-rapid/R/bin/R CMD INSTALL UCSC.utils StartedAt: 2025-10-10 06:08:44 -0400 (Fri, 10 Oct 2025) EndedAt: 2025-10-10 06:08:48 -0400 (Fri, 10 Oct 2025) EllapsedTime: 4.0 seconds RetCode: 0 Status: OK