Package: TFBSTools Version: 1.47.1 Command: /home/rapidbuild/bbs-3.22-bioc-rapid/R/bin/R CMD build --keep-empty-dirs --no-resave-data TFBSTools StartedAt: 2025-10-25 07:34:50 -0400 (Sat, 25 Oct 2025) EndedAt: 2025-10-25 07:35:48 -0400 (Sat, 25 Oct 2025) EllapsedTime: 57.9 seconds RetCode: 0 Status: OK PackageFile: TFBSTools_1.47.1.tar.gz PackageFileSize: 582.7 KiB