Package: TENxIO Version: 1.13.0 Maintainer: Marcel Ramos MaintainerEmail: marcel.ramos at sph.cuny.edu git_url: https://git.bioconductor.org/packages/TENxIO git_branch: devel git_last_commit: e1cb3c4 git_last_commit_date: 2025-10-29 11:19:24 -0400 (Wed, 29 Oct 2025)