Package: TCGAbiolinks Version: 2.37.3 Command: /home/rapidbuild/bbs-3.22-bioc-rapid/R/bin/R CMD INSTALL TCGAbiolinks StartedAt: 2025-10-22 06:20:44 -0400 (Wed, 22 Oct 2025) EndedAt: 2025-10-22 06:21:17 -0400 (Wed, 22 Oct 2025) EllapsedTime: 32.9 seconds RetCode: 0 Status: OK