Package: TCGAbiolinks Version: 2.37.3 Command: /home/rapidbuild/bbs-3.22-bioc-rapid/R/bin/R CMD build --keep-empty-dirs --no-resave-data TCGAbiolinks StartedAt: 2025-10-22 07:35:34 -0400 (Wed, 22 Oct 2025) EndedAt: 2025-10-22 07:40:10 -0400 (Wed, 22 Oct 2025) EllapsedTime: 276.0 seconds RetCode: 0 Status: OK PackageFile: TCGAbiolinks_2.37.3.tar.gz PackageFileSize: 63.76 MiB