Package: TCGAbiolinks Version: 2.37.2 Maintainer: Tiago Chedraoui Silva MaintainerEmail: tiagochst at gmail.com git_url: https://git.bioconductor.org/packages/TCGAbiolinks git_branch: devel git_last_commit: 20beefee git_last_commit_date: 2025-10-02 23:06:54 -0400 (Thu, 02 Oct 2025)