Package: SummarizedExperiment Version: 1.39.2 Command: /home/rapidbuild/bbs-3.22-bioc-rapid/R/bin/R CMD INSTALL SummarizedExperiment StartedAt: 2025-10-11 06:13:58 -0400 (Sat, 11 Oct 2025) EndedAt: 2025-10-11 06:14:18 -0400 (Sat, 11 Oct 2025) EllapsedTime: 20.6 seconds RetCode: 0 Status: OK