Package: SummarizedExperiment Version: 1.39.2 Command: /home/rapidbuild/bbs-3.22-bioc-rapid/R/bin/R CMD build --keep-empty-dirs --no-resave-data SummarizedExperiment StartedAt: 2025-10-11 07:31:48 -0400 (Sat, 11 Oct 2025) EndedAt: 2025-10-11 07:32:26 -0400 (Sat, 11 Oct 2025) EllapsedTime: 37.6 seconds RetCode: 0 Status: OK PackageFile: SummarizedExperiment_1.39.2.tar.gz PackageFileSize: 672.8 KiB