Package: Spectra Version: 1.19.10 Maintainer: RforMassSpectrometry Package Maintainer MaintainerEmail: maintainer at rformassspectrometry.org git_url: https://git.bioconductor.org/packages/Spectra git_branch: devel git_last_commit: bac4ca0 git_last_commit_date: 2025-10-14 01:35:30 -0400 (Tue, 14 Oct 2025)