Package: SpatialExperiment Version: 1.19.1 Command: /home/rapidbuild/bbs-3.22-bioc-rapid/R/bin/R CMD INSTALL SpatialExperiment StartedAt: 2025-10-10 06:20:00 -0400 (Fri, 10 Oct 2025) EndedAt: 2025-10-10 06:20:23 -0400 (Fri, 10 Oct 2025) EllapsedTime: 22.1 seconds RetCode: 0 Status: OK