Package: SparseArray Version: 1.9.1 Command: /home/rapidbuild/bbs-3.22-bioc-rapid/R/bin/R CMD check --install=check:SparseArray.install-out.txt --library=/home/rapidbuild/bbs-3.22-bioc-rapid/R/site-library --timings SparseArray_1.9.1.tar.gz StartedAt: 2025-10-14 15:33:47 -0400 (Tue, 14 Oct 2025) EndedAt: 2025-10-14 15:37:04 -0400 (Tue, 14 Oct 2025) EllapsedTime: 196.6 seconds RetCode: 0 Status: OK CheckDir: SparseArray.Rcheck Warnings: 0